davidTiling 1.2.12 Wolfgang Huber
 | Snapshot Date: 2011-04-06 12:27:26 -0700 (Wed, 06 Apr 2011) |  | URL: https://hedgehog.fhcrc.org/bioc-data/trunk/experiment/pkgs/davidTiling |  | Last Changed Rev: 1042 / Revision: 1510 |  | Last Changed Date: 2009-10-13 18:35:32 -0700 (Tue, 13 Oct 2009) |  
  | lamb2  | Linux (openSUSE 11.2) / x86_64  |  OK  |  OK  |  | 
| gewurz  | Windows Server 2008 R2 Enterprise (64-bit) / x64  |  OK  |  OK  |  OK  | 
| petty  | Mac OS X Snow Leopard (10.6.6) / i386  | [ OK ] |  OK  |  OK  | 
Warning: unknown option '--keep-empty-dirs'
* checking for file 'davidTiling/DESCRIPTION' ... OK
* preparing 'davidTiling':
* checking DESCRIPTION meta-information ... OK
* checking for LF line-endings in source and make files
* checking for empty or unneeded directories
* building 'davidTiling_1.2.12.tar.gz'