| Back to the "Multiple platform build/check report" |
| Package 18/82 | Hostname | OS / Arch | BUILD | CHECK | BUILD BIN | ||||
| dyebiasexamples 1.0.6 Philip Lijnzaad
| lamb2 | Linux (openSUSE 11.2) / x86_64 | OK | OK | |||||
| gewurz | Windows Server 2008 R2 Enterprise (64-bit) / x64 | OK | ERROR | ERROR | |||||
| pelham | Mac OS X Leopard (10.5.8) / i386 | [ OK ] | OK | OK |
| Package: dyebiasexamples |
| Version: 1.0.6 |
| Command: /Library/Frameworks/R.framework/Versions/2.12/Resources/bin/R CMD build dyebiasexamples |
| StartedAt: 2011-02-27 14:17:19 -0800 (Sun, 27 Feb 2011) |
| EndedAt: 2011-02-27 14:17:42 -0800 (Sun, 27 Feb 2011) |
| EllapsedTime: 22.8 seconds |
| RetCode: 0 |
| Status: OK |
| PackageFile: dyebiasexamples_1.0.6.tar.gz |
| PackageFileSize: 15.2 MiB |
* checking for file ‘dyebiasexamples/DESCRIPTION’ ... OK * preparing ‘dyebiasexamples’: * checking DESCRIPTION meta-information ... OK * checking for LF line-endings in source and make files * checking for empty or unneeded directories * building ‘dyebiasexamples_1.0.6.tar.gz’