| Back to the "Multiple platform build/check report" |
| Package 27/82 | Hostname | OS / Arch | BUILD | CHECK | BUILD BIN | ||||
| gageData 1.1.0 Weijun Luo
| lamb2 | Linux (openSUSE 11.2) / x86_64 | OK | OK | |||||
| gewurz | Windows Server 2008 R2 Enterprise (64-bit) / x64 | OK | OK | OK | |||||
| pelham | Mac OS X Leopard (10.5.8) / i386 | [ OK ] | OK | OK |
| Package: gageData |
| Version: 1.1.0 |
| Command: /Library/Frameworks/R.framework/Versions/2.12/Resources/bin/R CMD build gageData |
| StartedAt: 2011-02-27 14:23:08 -0800 (Sun, 27 Feb 2011) |
| EndedAt: 2011-02-27 14:23:16 -0800 (Sun, 27 Feb 2011) |
| EllapsedTime: 7.8 seconds |
| RetCode: 0 |
| Status: OK |
| PackageFile: gageData_1.1.0.tar.gz |
| PackageFileSize: 11.55 MiB |
* checking for file ‘gageData/DESCRIPTION’ ... OK * preparing ‘gageData’: * checking DESCRIPTION meta-information ... OK * checking for LF line-endings in source and make files * checking for empty or unneeded directories * building ‘gageData_1.1.0.tar.gz’