| Back to the "Multiple platform build/check report" |
| Package 48/84 | Hostname | OS / Arch | BUILD | CHECK | BUILD BIN | ||||
| hgu2beta7 1.2.2 Biocore Team c/o BioC user list
| lamb2 | Linux (openSUSE 11.2) / x86_64 | OK | WARNINGS | |||||
| liverpool | Windows Server 2003 R2 (32-bit) / x64 | [ OK ] | WARNINGS | OK | |||||
| pelham | Mac OS X Leopard (10.5.8) / i386 | OK | WARNINGS | OK |
| Package: hgu2beta7 |
| Version: 1.2.2 |
| Command: chmod a+r hgu2beta7 -R && E:\biocbld\bbs-2.7-bioc\R\bin\R.exe CMD build hgu2beta7 |
| StartedAt: 2010-11-11 14:37:06 -0800 (Thu, 11 Nov 2010) |
| EndedAt: 2010-11-11 14:37:13 -0800 (Thu, 11 Nov 2010) |
| EllapsedTime: 6.5 seconds |
| RetCode: 0 |
| Status: OK |
| PackageFile: hgu2beta7_1.2.2.tar.gz |
| PackageFileSize: 6.406 MiB |
* checking for file 'hgu2beta7/DESCRIPTION' ... OK * preparing 'hgu2beta7': * checking DESCRIPTION meta-information ... OK * checking for LF line-endings in source and make files * checking for empty or unneeded directories * building 'hgu2beta7_1.2.2.tar.gz'