pumadata 1.0.3 Richard Pearson
 | Snapshot Date: 2011-04-06 12:27:26 -0700 (Wed, 06 Apr 2011) |  | URL: https://hedgehog.fhcrc.org/bioc-data/trunk/experiment/pkgs/pumadata |  | Last Changed Rev: 1356 / Revision: 1510 |  | Last Changed Date: 2010-10-14 09:31:05 -0700 (Thu, 14 Oct 2010) |  
  | lamb2  | Linux (openSUSE 11.2) / x86_64  |  OK  |  WARNINGS  |  | 
| gewurz  | Windows Server 2008 R2 Enterprise (64-bit) / x64  | [ OK ] |  WARNINGS  |  OK  | 
| petty  | Mac OS X Snow Leopard (10.6.6) / i386  |  OK  |  WARNINGS  |  OK  | 
Warning: unknown option '--keep-empty-dirs'
* checking for file 'pumadata/DESCRIPTION' ... OK
* preparing 'pumadata':
* checking DESCRIPTION meta-information ... OK
* installing the package to re-build vignettes
* creating vignettes ... OK
* checking for LF line-endings in source and make files
* checking for empty or unneeded directories
* building 'pumadata_1.0.3.tar.gz'