| Back to the "Multiple platform build/check report" |
| Package 53/84 | Hostname | OS / Arch | BUILD | CHECK | BUILD BIN | ||||
| ITALICSData 2.0.1 Guillem Rigaill
| lamb1 | Linux (openSUSE 11.3) / x86_64 | OK | OK | |||||
| liverpool | Windows Server 2003 R2 (32-bit) / x64 | [ OK ] | OK | OK | |||||
| pelham | Mac OS X Leopard (10.5.8) / i386 | OK | OK | OK |
| Package: ITALICSData |
| Version: 2.0.1 |
| Command: chmod a+r ITALICSData -R && E:\biocbld\bbs-2.8-bioc\R\bin\R.exe CMD build ITALICSData |
| StartedAt: 2010-11-12 02:48:45 -0800 (Fri, 12 Nov 2010) |
| EndedAt: 2010-11-12 02:50:34 -0800 (Fri, 12 Nov 2010) |
| EllapsedTime: 108.5 seconds |
| RetCode: 0 |
| Status: OK |
| PackageFile: ITALICSData_2.0.1.tar.gz |
| PackageFileSize: 84.2 MiB |
* checking for file 'ITALICSData/DESCRIPTION' ... OK * preparing 'ITALICSData': * checking DESCRIPTION meta-information ... OK * checking for LF line-endings in source and make files * checking for empty or unneeded directories * building 'ITALICSData_2.0.1.tar.gz'