| Back to the "Multiple platform build/check report" |
| Package 29/84 | Hostname | OS / Arch | BUILD | CHECK | BUILD BIN | ||||
| gatingMLData 1.0.2 Nishant Gopalakrishnan
| lamb1 | Linux (openSUSE 11.3) / x86_64 | OK | OK | |||||
| liverpool | Windows Server 2003 R2 (32-bit) / x64 | [ OK ] | OK | OK | |||||
| pelham | Mac OS X Leopard (10.5.8) / i386 | OK | OK | OK |
| Package: gatingMLData |
| Version: 1.0.2 |
| Command: chmod a+r gatingMLData -R && E:\biocbld\bbs-2.8-bioc\R\bin\R.exe CMD build gatingMLData |
| StartedAt: 2010-11-12 02:24:44 -0800 (Fri, 12 Nov 2010) |
| EndedAt: 2010-11-12 02:25:14 -0800 (Fri, 12 Nov 2010) |
| EllapsedTime: 29.5 seconds |
| RetCode: 0 |
| Status: OK |
| PackageFile: gatingMLData_1.0.2.tar.gz |
| PackageFileSize: 1.792 MiB |
* checking for file 'gatingMLData/DESCRIPTION' ... OK * preparing 'gatingMLData': * checking DESCRIPTION meta-information ... OK * checking for LF line-endings in source and make files * checking for empty or unneeded directories * building 'gatingMLData_1.0.2.tar.gz'