| Back to the "Multiple platform build/check report" |
| Package 30/84 | Hostname | OS / Arch | BUILD | CHECK | BUILD BIN | ||||
| gcspikelite 1.0.4 Mark Robinson
| lamb1 | Linux (openSUSE 11.3) / x86_64 | OK | OK | |||||
| liverpool | Windows Server 2003 R2 (32-bit) / x64 | [ OK ] | OK | OK | |||||
| pelham | Mac OS X Leopard (10.5.8) / i386 | OK | OK | OK |
| Package: gcspikelite |
| Version: 1.0.4 |
| Command: chmod a+r gcspikelite -R && E:\biocbld\bbs-2.8-bioc\R\bin\R.exe CMD build gcspikelite |
| StartedAt: 2010-11-12 02:53:35 -0800 (Fri, 12 Nov 2010) |
| EndedAt: 2010-11-12 02:54:39 -0800 (Fri, 12 Nov 2010) |
| EllapsedTime: 63.2 seconds |
| RetCode: 0 |
| Status: OK |
| PackageFile: gcspikelite_1.0.4.tar.gz |
| PackageFileSize: 21.59 MiB |
* checking for file 'gcspikelite/DESCRIPTION' ... OK * preparing 'gcspikelite': * checking DESCRIPTION meta-information ... OK * checking for LF line-endings in source and make files * checking for empty or unneeded directories * building 'gcspikelite_1.0.4.tar.gz'