geneLenDataBase 0.99.7 Matthew Young
 | Snapshot Date: 2011-10-18 23:15:16 -0700 (Tue, 18 Oct 2011) |  | URL: https://hedgehog.fhcrc.org/bioc-data/trunk/experiment/pkgs/geneLenDataBase |  | Last Changed Rev: 1487 / Revision: 1763 |  | Last Changed Date: 2011-03-29 20:53:14 -0700 (Tue, 29 Mar 2011) |  
  | lamb1  | Linux (openSUSE 11.3) / x86_64  |  OK  |  WARNINGS  |  | 
| gewurz  | Windows Server 2008 R2 Enterprise SP1 (64-bit) / x64  | [ OK ] |  WARNINGS  |  OK  | 
| pelham  | Mac OS X Leopard (10.5.8) / i386  |  OK  |  WARNINGS  |  OK  | 
* checking for file 'geneLenDataBase/DESCRIPTION' ... OK
* preparing 'geneLenDataBase':
* checking DESCRIPTION meta-information ... OK
* checking for LF line-endings in source and make files
* checking for empty or unneeded directories
* looking to see if a 'data/datalist' file should be added
* building 'geneLenDataBase_0.99.7.tar.gz'