| Back to the "Multiple platform build/check report" |
| Package 65/106 | Hostname | OS / Arch | BUILD | CHECK | BUILD BIN | ||||
| iontreeData 0.99.3 Mingshu Cao
| lamb1 | Linux (openSUSE 11.3) / x86_64 | OK | OK | |||||
| gewurz | Windows Server 2008 R2 Enterprise SP1 (64-bit) / x64 | OK | OK | [ OK ] | |||||
| pelham | Mac OS X Leopard (10.5.8) / i386 | OK | OK | OK |
| Package: iontreeData |
| Version: 0.99.3 |
| Command: rm -rf iontreeData.buildbin-libdir && mkdir iontreeData.buildbin-libdir && D:\biocbld\bbs-2.8-bioc\R\bin\R.exe CMD INSTALL --build --no-multiarch --library=iontreeData.buildbin-libdir iontreeData_0.99.3.tar.gz |
| StartedAt: 2011-10-19 04:00:41 -0700 (Wed, 19 Oct 2011) |
| EndedAt: 2011-10-19 04:00:50 -0700 (Wed, 19 Oct 2011) |
| EllapsedTime: 8.3 seconds |
| RetCode: 0 |
| Status: OK |
| PackageFile: iontreeData_0.99.3.zip |
| PackageFileSize: 6.469 MiB |
* installing *source* package 'iontreeData' ... ** data ** inst ** help *** installing help indices ** building package indices ... ** testing if installed package can be loaded * MD5 sums packaged installation of 'iontreeData' as iontreeData_0.99.3.zip * DONE (iontreeData)