GGdata 1.0.18 VJ Carey
 | Snapshot Date: 2012-03-23 11:15:09 -0700 (Fri, 23 Mar 2012) |  | URL: https://hedgehog.fhcrc.org/bioc-data/trunk/experiment/pkgs/GGdata |  | Last Changed Rev: 1961 / Revision: 2028 |  | Last Changed Date: 2012-03-07 17:42:44 -0800 (Wed, 07 Mar 2012) |  
  | wilson2  | Linux (openSUSE 11.4) / x86_64  | [ OK ] |  OK  |  | 
| moscato1  | Windows Server 2008 R2 Enterprise SP1 (64-bit) / x64  |  OK  |  OK  |  OK  | 
| pitt  | Mac OS X Leopard (10.5.8) / i386  |  OK  |  OK  |  OK  | 
* checking for file ‘GGdata/DESCRIPTION’ ... OK
* preparing ‘GGdata’:
* checking DESCRIPTION meta-information ... OK
* checking for LF line-endings in source and make files
* checking for empty or unneeded directories
* looking to see if a ‘data/datalist’ file should be added
* building ‘GGdata_1.0.18.tar.gz’