| Back to the "Multiple platform build/check report" |
| Package 61/98 | Hostname | OS / Arch | BUILD | CHECK | BUILD BIN | ||||
| ITALICSData 2.0.2 Guillem Rigaill
| wilson2 | Linux (openSUSE 11.4) / x86_64 | OK | OK | |||||
| liverpool | Windows Server 2003 R2 (32-bit) / x64 | OK | OK | [ OK ] | |||||
| pitt | Mac OS X Leopard (10.5.8) / i386 | OK | OK | OK |
| Package: ITALICSData |
| Version: 2.0.2 |
| Command: mkdir ITALICSData.buildbin-libdir && E:\biocbld\bbs-2.9-bioc\R\bin\R.exe CMD INSTALL --build --no-multiarch --library=ITALICSData.buildbin-libdir ITALICSData_2.0.2.tar.gz |
| StartedAt: 2011-07-06 17:08:50 -0700 (Wed, 06 Jul 2011) |
| EndedAt: 2011-07-06 17:11:19 -0700 (Wed, 06 Jul 2011) |
| EllapsedTime: 149.3 seconds |
| RetCode: 0 |
| Status: OK |
| PackageFile: ITALICSData_2.0.2.zip |
| PackageFileSize: 83.51 MiB |
* installing *source* package 'ITALICSData' ... ** data ** inst ** help *** installing help indices ** building package indices ... ** testing if installed package can be loaded * MD5 sums packaged installation of 'ITALICSData' as ITALICSData_2.0.2.zip * DONE (ITALICSData)