| Back to the "Multiple platform build/check report" | 
| Package 67/98 | Hostname | OS / Arch | BUILD | CHECK | BUILD BIN | ||||
| lungExpression 0.0.10 Robert Scharpf 
 | wilson2 | Linux (openSUSE 11.4) / x86_64 | OK | OK | |||||
| liverpool | Windows Server 2003 R2 (32-bit) / x64 | OK | OK | [ OK ] | |||||
| pitt | Mac OS X Leopard (10.5.8) / i386 | OK | OK | OK | 
| Package: lungExpression | 
| Version: 0.0.10 | 
| Command: mkdir lungExpression.buildbin-libdir && E:\biocbld\bbs-2.9-bioc\R\bin\R.exe CMD INSTALL --build --no-multiarch --library=lungExpression.buildbin-libdir lungExpression_0.0.10.tar.gz | 
| StartedAt: 2011-07-06 17:11:30 -0700 (Wed, 06 Jul 2011) | 
| EndedAt: 2011-07-06 17:11:35 -0700 (Wed, 06 Jul 2011) | 
| EllapsedTime: 4.6 seconds | 
| RetCode: 0 | 
| Status: OK | 
| PackageFile: lungExpression_0.0.10.zip | 
| PackageFileSize: 5.69 MiB | 
* installing *source* package 'lungExpression' ... ** data ** help *** installing help indices ** building package indices ... ** testing if installed package can be loaded * MD5 sums packaged installation of 'lungExpression' as lungExpression_0.0.10.zip * DONE (lungExpression)