| Back to the "Multiple platform build/check report" | 
| Package 111/120 | Hostname | OS / Arch | BUILD | CHECK | BUILD BIN | ||||
| TCGAMethylation450k 0.99.1 Sean Davis 
 | wilson2 | Linux (openSUSE 11.4) / x86_64 | OK | OK | |||||
| moscato1 | Windows Server 2008 R2 Enterprise SP1 (64-bit) / x64 | OK | OK | OK | |||||
| pitt | Mac OS X Leopard (10.5.8) / i386 | [ OK ] | OK | OK | 
| Package: TCGAMethylation450k | 
| Version: 0.99.1 | 
| Command: /Library/Frameworks/R.framework/Versions/2.14/Resources/bin/R CMD build --keep-empty-dirs --no-resave-data TCGAMethylation450k | 
| StartedAt: 2012-03-23 13:17:26 -0700 (Fri, 23 Mar 2012) | 
| EndedAt: 2012-03-23 13:17:56 -0700 (Fri, 23 Mar 2012) | 
| EllapsedTime: 29.8 seconds | 
| RetCode: 0 | 
| Status: OK | 
| PackageFile: TCGAMethylation450k_0.99.1.tar.gz | 
| PackageFileSize: 81.02 MiB | 
* checking for file 'TCGAMethylation450k/DESCRIPTION' ... OK * preparing 'TCGAMethylation450k': * checking DESCRIPTION meta-information ... OK * checking for LF line-endings in source and make files * checking for empty or unneeded directories * building 'TCGAMethylation450k_0.99.1.tar.gz'