| Back to Build/check report for BioC 3.10 experimental data |
This page was generated on 2020-04-14 17:46:27 -0400 (Tue, 14 Apr 2020).
| Package 161/384 | Hostname | OS / Arch | INSTALL | BUILD | CHECK | ||||||
| HarmonizedTCGAData 1.8.0 Tianle Ma
| malbec1 | Linux (Ubuntu 18.04.4 LTS) / x86_64 | OK | OK | [ OK ] |
| Package: HarmonizedTCGAData |
| Version: 1.8.0 |
| Command: /home/biocbuild/bbs-3.10-bioc/R/bin/R CMD check --install=check:HarmonizedTCGAData.install-out.txt --library=/home/biocbuild/bbs-3.10-bioc/R/library --no-vignettes --timings HarmonizedTCGAData_1.8.0.tar.gz |
| StartedAt: 2020-04-14 13:45:04 -0400 (Tue, 14 Apr 2020) |
| EndedAt: 2020-04-14 13:46:30 -0400 (Tue, 14 Apr 2020) |
| EllapsedTime: 85.6 seconds |
| RetCode: 0 |
| Status: OK |
| CheckDir: HarmonizedTCGAData.Rcheck |
| Warnings: 0 |
##############################################################################
##############################################################################
###
### Running command:
###
### /home/biocbuild/bbs-3.10-bioc/R/bin/R CMD check --install=check:HarmonizedTCGAData.install-out.txt --library=/home/biocbuild/bbs-3.10-bioc/R/library --no-vignettes --timings HarmonizedTCGAData_1.8.0.tar.gz
###
##############################################################################
##############################################################################
* using log directory ‘/home/biocbuild/bbs-3.10-data-experiment/meat/HarmonizedTCGAData.Rcheck’
* using R version 3.6.3 (2020-02-29)
* using platform: x86_64-pc-linux-gnu (64-bit)
* using session charset: UTF-8
* using option ‘--no-vignettes’
* checking for file ‘HarmonizedTCGAData/DESCRIPTION’ ... OK
* checking extension type ... Package
* this is package ‘HarmonizedTCGAData’ version ‘1.8.0’
* checking package namespace information ... OK
* checking package dependencies ... OK
* checking if this is a source package ... OK
* checking if there is a namespace ... OK
* checking for hidden files and directories ... OK
* checking for portable file names ... OK
* checking for sufficient/correct file permissions ... OK
* checking whether package ‘HarmonizedTCGAData’ can be installed ... OK
* checking installed package size ... OK
* checking package directory ... OK
* checking ‘build’ directory ... OK
* checking DESCRIPTION meta-information ... OK
* checking top-level files ... OK
* checking for left-over files ... OK
* checking index information ... OK
* checking package subdirectories ... OK
* checking R files for non-ASCII characters ... OK
* checking R files for syntax errors ... OK
* checking whether the package can be loaded ... OK
* checking whether the package can be loaded with stated dependencies ... OK
* checking whether the package can be unloaded cleanly ... OK
* checking whether the namespace can be loaded with stated dependencies ... OK
* checking whether the namespace can be unloaded cleanly ... OK
* checking dependencies in R code ... OK
* checking S3 generic/method consistency ... OK
* checking replacement functions ... OK
* checking foreign function calls ... OK
* checking R code for possible problems ... OK
* checking Rd files ... OK
* checking Rd metadata ... OK
* checking Rd cross-references ... OK
* checking for missing documentation entries ... OK
* checking for code/documentation mismatches ... OK
* checking Rd \usage sections ... OK
* checking Rd contents ... OK
* checking for unstated dependencies in examples ... OK
* checking contents of ‘data’ directory ... OK
* checking data for non-ASCII characters ... OK
* checking data for ASCII and uncompressed saves ... OK
* checking files in ‘vignettes’ ... OK
* checking examples ... OK
Examples with CPU or elapsed time > 5s
user system elapsed
Wall 6.832 0.328 7.746
* checking for unstated dependencies in ‘tests’ ... OK
* checking tests ...
Running ‘testthat.R’
OK
* checking for unstated dependencies in vignettes ... OK
* checking package vignettes in ‘inst/doc’ ... OK
* checking running R code from vignettes ... SKIPPED
* checking re-building of vignette outputs ... SKIPPED
* checking PDF version of manual ... OK
* DONE
Status: OK
HarmonizedTCGAData.Rcheck/00install.out
############################################################################## ############################################################################## ### ### Running command: ### ### /home/biocbuild/bbs-3.10-bioc/R/bin/R CMD INSTALL HarmonizedTCGAData ### ############################################################################## ############################################################################## * installing to library ‘/home/biocbuild/bbs-3.10-bioc/R/library’ * installing *source* package ‘HarmonizedTCGAData’ ... ** using staged installation ** R ** data *** moving datasets to lazyload DB ** inst ** byte-compile and prepare package for lazy loading ** help *** installing help indices ** building package indices ** installing vignettes ** testing if installed package can be loaded from temporary location ** testing if installed package can be loaded from final location ** testing if installed package keeps a record of temporary installation path * DONE (HarmonizedTCGAData)
HarmonizedTCGAData.Rcheck/tests/testthat.Rout
R version 3.6.3 (2020-02-29) -- "Holding the Windsock"
Copyright (C) 2020 The R Foundation for Statistical Computing
Platform: x86_64-pc-linux-gnu (64-bit)
R is free software and comes with ABSOLUTELY NO WARRANTY.
You are welcome to redistribute it under certain conditions.
Type 'license()' or 'licence()' for distribution details.
R is a collaborative project with many contributors.
Type 'contributors()' for more information and
'citation()' on how to cite R or R packages in publications.
Type 'demo()' for some demos, 'help()' for on-line help, or
'help.start()' for an HTML browser interface to help.
Type 'q()' to quit R.
> library(testthat)
> library(HarmonizedTCGAData)
>
> test_check("HarmonizedTCGAData")
══ testthat results ═══════════════════════════════════════════════════════════
[ OK: 13 | SKIPPED: 0 | WARNINGS: 0 | FAILED: 0 ]
>
> proc.time()
user system elapsed
12.756 0.424 13.952
HarmonizedTCGAData.Rcheck/HarmonizedTCGAData-Ex.timings
| name | user | system | elapsed | |
| Wall | 6.832 | 0.328 | 7.746 | |
| project_ids | 2.556 | 0.084 | 3.218 | |
| surv.plot | 2.296 | 0.040 | 2.643 | |