| Back to Build/check report for BioC 3.10 experimental data | 
This page was generated on 2020-04-14 17:46:24 -0400 (Tue, 14 Apr 2020).
| Package 188/384 | Hostname | OS / Arch | INSTALL | BUILD | CHECK | ||||||
| JASPAR2016 1.14.0 Ge Tan 
 | malbec1 | Linux (Ubuntu 18.04.4 LTS) / x86_64 | OK | [ OK ] | OK |  | 
| Package: JASPAR2016 | 
| Version: 1.14.0 | 
| Command: /home/biocbuild/bbs-3.10-bioc/R/bin/R CMD build --keep-empty-dirs --no-resave-data JASPAR2016 | 
| StartedAt: 2020-04-14 12:03:31 -0400 (Tue, 14 Apr 2020) | 
| EndedAt: 2020-04-14 12:03:36 -0400 (Tue, 14 Apr 2020) | 
| EllapsedTime: 5.5 seconds | 
| RetCode: 0 | 
| Status: OK | 
| PackageFile: JASPAR2016_1.14.0.tar.gz | 
| PackageFileSize: 8.715 MiB | 
############################################################################## ############################################################################## ### ### Running command: ### ### /home/biocbuild/bbs-3.10-bioc/R/bin/R CMD build --keep-empty-dirs --no-resave-data JASPAR2016 ### ############################################################################## ############################################################################## * checking for file ‘JASPAR2016/DESCRIPTION’ ... OK * preparing ‘JASPAR2016’: * checking DESCRIPTION meta-information ... OK * checking for LF line-endings in source and make files and shell scripts * checking for empty or unneeded directories * building ‘JASPAR2016_1.14.0.tar.gz’