| Back to Build/check report for BioC 3.10 experimental data |
This page was generated on 2020-04-14 17:46:31 -0400 (Tue, 14 Apr 2020).
| Package 234/384 | Hostname | OS / Arch | INSTALL | BUILD | CHECK | ||||||
| MouseGastrulationData 1.0.0 Jonathan Griffiths
| malbec1 | Linux (Ubuntu 18.04.4 LTS) / x86_64 | OK | [ OK ] | OK |
| Package: MouseGastrulationData |
| Version: 1.0.0 |
| Command: /home/biocbuild/bbs-3.10-bioc/R/bin/R CMD build --keep-empty-dirs --no-resave-data MouseGastrulationData |
| StartedAt: 2020-04-14 12:31:48 -0400 (Tue, 14 Apr 2020) |
| EndedAt: 2020-04-14 12:32:38 -0400 (Tue, 14 Apr 2020) |
| EllapsedTime: 49.6 seconds |
| RetCode: 0 |
| Status: OK |
| PackageFile: MouseGastrulationData_1.0.0.tar.gz |
| PackageFileSize: 454.4 KiB |
############################################################################## ############################################################################## ### ### Running command: ### ### /home/biocbuild/bbs-3.10-bioc/R/bin/R CMD build --keep-empty-dirs --no-resave-data MouseGastrulationData ### ############################################################################## ############################################################################## * checking for file ‘MouseGastrulationData/DESCRIPTION’ ... OK * preparing ‘MouseGastrulationData’: * checking DESCRIPTION meta-information ... OK * installing the package to process help pages * saving partial Rd database * creating vignettes ... OK * checking for LF line-endings in source and make files and shell scripts * checking for empty or unneeded directories * building ‘MouseGastrulationData_1.0.0.tar.gz’