| Back to Build/check report for BioC 3.10 experimental data | 
This page was generated on 2020-04-14 17:46:24 -0400 (Tue, 14 Apr 2020).
| Package 340/384 | Hostname | OS / Arch | INSTALL | BUILD | CHECK | ||||||
| SNPhoodData 1.16.0 Christian Arnold 
 | malbec1 | Linux (Ubuntu 18.04.4 LTS) / x86_64 | OK | [ OK ] | OK |  | 
| Package: SNPhoodData | 
| Version: 1.16.0 | 
| Command: /home/biocbuild/bbs-3.10-bioc/R/bin/R CMD build --keep-empty-dirs --no-resave-data SNPhoodData | 
| StartedAt: 2020-04-14 12:01:09 -0400 (Tue, 14 Apr 2020) | 
| EndedAt: 2020-04-14 12:01:29 -0400 (Tue, 14 Apr 2020) | 
| EllapsedTime: 20.5 seconds | 
| RetCode: 0 | 
| Status: OK | 
| PackageFile: SNPhoodData_1.16.0.tar.gz | 
| PackageFileSize: 233.5 MiB | 
############################################################################## ############################################################################## ### ### Running command: ### ### /home/biocbuild/bbs-3.10-bioc/R/bin/R CMD build --keep-empty-dirs --no-resave-data SNPhoodData ### ############################################################################## ############################################################################## * checking for file ‘SNPhoodData/DESCRIPTION’ ... OK * preparing ‘SNPhoodData’: * checking DESCRIPTION meta-information ... OK * installing the package to build vignettes * creating vignettes ... OK * checking for LF line-endings in source and make files and shell scripts * checking for empty or unneeded directories * building ‘SNPhoodData_1.16.0.tar.gz’