| Back to Build/check report for BioC 3.10 experimental data | 
This page was generated on 2020-04-14 17:46:15 -0400 (Tue, 14 Apr 2020).
| Package 343/384 | Hostname | OS / Arch | INSTALL | BUILD | CHECK | ||||||
| SpikeIn 1.28.0 Rafael A. Irizarry 
 | malbec1 | Linux (Ubuntu 18.04.4 LTS) / x86_64 | OK | [ OK ] | WARNINGS |  | 
| Package: SpikeIn | 
| Version: 1.28.0 | 
| Command: /home/biocbuild/bbs-3.10-bioc/R/bin/R CMD build --keep-empty-dirs --no-resave-data SpikeIn | 
| StartedAt: 2020-04-14 11:27:47 -0400 (Tue, 14 Apr 2020) | 
| EndedAt: 2020-04-14 11:27:58 -0400 (Tue, 14 Apr 2020) | 
| EllapsedTime: 10.7 seconds | 
| RetCode: 0 | 
| Status: OK | 
| PackageFile: SpikeIn_1.28.0.tar.gz | 
| PackageFileSize: 63.05 MiB | 
############################################################################## ############################################################################## ### ### Running command: ### ### /home/biocbuild/bbs-3.10-bioc/R/bin/R CMD build --keep-empty-dirs --no-resave-data SpikeIn ### ############################################################################## ############################################################################## * checking for file ‘SpikeIn/DESCRIPTION’ ... OK * preparing ‘SpikeIn’: * checking DESCRIPTION meta-information ... OK * checking for LF line-endings in source and make files and shell scripts * checking for empty or unneeded directories * looking to see if a ‘data/datalist’ file should be added * building ‘SpikeIn_1.28.0.tar.gz’