| Back to Build/check report for BioC 3.10 experimental data |
This page was generated on 2020-04-14 17:46:25 -0400 (Tue, 14 Apr 2020).
| Package 202/384 | Hostname | OS / Arch | INSTALL | BUILD | CHECK | ||||||
| lydata 1.12.0 Alex Pickering
| malbec1 | Linux (Ubuntu 18.04.4 LTS) / x86_64 | OK | [ OK ] | OK |
| Package: lydata |
| Version: 1.12.0 |
| Command: /home/biocbuild/bbs-3.10-bioc/R/bin/R CMD build --keep-empty-dirs --no-resave-data lydata |
| StartedAt: 2020-04-14 12:13:34 -0400 (Tue, 14 Apr 2020) |
| EndedAt: 2020-04-14 12:16:10 -0400 (Tue, 14 Apr 2020) |
| EllapsedTime: 156.4 seconds |
| RetCode: 0 |
| Status: OK |
| PackageFile: lydata_1.12.0.tar.gz |
| PackageFileSize: 158.9 MiB |
############################################################################## ############################################################################## ### ### Running command: ### ### /home/biocbuild/bbs-3.10-bioc/R/bin/R CMD build --keep-empty-dirs --no-resave-data lydata ### ############################################################################## ############################################################################## * checking for file ‘lydata/DESCRIPTION’ ... OK * preparing ‘lydata’: * checking DESCRIPTION meta-information ... OK * checking for LF line-endings in source and make files and shell scripts * checking for empty or unneeded directories * building ‘lydata_1.12.0.tar.gz’