| Back to Build/check report for BioC 3.10 experimental data |
This page was generated on 2020-04-14 17:46:26 -0400 (Tue, 14 Apr 2020).
| Package 260/384 | Hostname | OS / Arch | INSTALL | BUILD | CHECK | ||||||
| pathprintGEOData 1.16.0 Sokratis Kariotis
| malbec1 | Linux (Ubuntu 18.04.4 LTS) / x86_64 | OK | [ OK ] | WARNINGS |
| Package: pathprintGEOData |
| Version: 1.16.0 |
| Command: /home/biocbuild/bbs-3.10-bioc/R/bin/R CMD build --keep-empty-dirs --no-resave-data pathprintGEOData |
| StartedAt: 2020-04-14 12:16:41 -0400 (Tue, 14 Apr 2020) |
| EndedAt: 2020-04-14 12:17:14 -0400 (Tue, 14 Apr 2020) |
| EllapsedTime: 33.1 seconds |
| RetCode: 0 |
| Status: OK |
| PackageFile: pathprintGEOData_1.16.0.tar.gz |
| PackageFileSize: 51.76 MiB |
############################################################################## ############################################################################## ### ### Running command: ### ### /home/biocbuild/bbs-3.10-bioc/R/bin/R CMD build --keep-empty-dirs --no-resave-data pathprintGEOData ### ############################################################################## ############################################################################## * checking for file ‘pathprintGEOData/DESCRIPTION’ ... OK * preparing ‘pathprintGEOData’: * checking DESCRIPTION meta-information ... OK * installing the package to build vignettes * creating vignettes ... OK * checking for LF line-endings in source and make files and shell scripts * checking for empty or unneeded directories * looking to see if a ‘data/datalist’ file should be added * building ‘pathprintGEOData_1.16.0.tar.gz’