| Back to Build/check report for BioC 3.10 experimental data | 
This page was generated on 2020-04-14 17:46:23 -0400 (Tue, 14 Apr 2020).
| Package 291/384 | Hostname | OS / Arch | INSTALL | BUILD | CHECK | ||||||
| rcellminerData 2.8.0 Augustin Luna 
 | malbec1 | Linux (Ubuntu 18.04.4 LTS) / x86_64 | [ OK ] | OK | WARNINGS |  | 
| Package: rcellminerData | 
| Version: 2.8.0 | 
| Command: /home/biocbuild/bbs-3.10-bioc/R/bin/R CMD INSTALL rcellminerData | 
| StartedAt: 2020-04-14 11:05:51 -0400 (Tue, 14 Apr 2020) | 
| EndedAt: 2020-04-14 11:06:24 -0400 (Tue, 14 Apr 2020) | 
| EllapsedTime: 33.8 seconds | 
| RetCode: 0 | 
| Status: OK | 
############################################################################## ############################################################################## ### ### Running command: ### ### /home/biocbuild/bbs-3.10-bioc/R/bin/R CMD INSTALL rcellminerData ### ############################################################################## ############################################################################## * installing to library ‘/home/biocbuild/bbs-3.10-bioc/R/library’ * installing *source* package ‘rcellminerData’ ... ** using staged installation ** data *** moving datasets to lazyload DB ** inst ** help *** installing help indices ** building package indices ** installing vignettes ** testing if installed package can be loaded from temporary location ** testing if installed package can be loaded from final location ** testing if installed package keeps a record of temporary installation path * DONE (rcellminerData)