| Back to Build/check report for BioC 3.11 experimental data | 
This page was generated on 2020-10-15 20:45:46 -0400 (Thu, 15 Oct 2020).
| TO THE DEVELOPERS/MAINTAINERS OF THE DeSousa2013 PACKAGE: Please make sure to use the following settings in order to reproduce any error or warning you see on this page. | 
| Package 90/391 | Hostname | OS / Arch | INSTALL | BUILD | CHECK | ||||||
| DeSousa2013 1.24.0 Xin Wang 
 | malbec2 | Linux (Ubuntu 18.04.4 LTS) / x86_64 | [ OK ] | OK | OK |  | 
| Package: DeSousa2013 | 
| Version: 1.24.0 | 
| Command: /home/biocbuild/bbs-3.11-bioc/R/bin/R CMD INSTALL DeSousa2013 | 
| StartedAt: 2020-10-15 09:26:13 -0400 (Thu, 15 Oct 2020) | 
| EndedAt: 2020-10-15 09:26:58 -0400 (Thu, 15 Oct 2020) | 
| EllapsedTime: 45.4 seconds | 
| RetCode: 0 | 
| Status: OK | 
############################################################################## ############################################################################## ### ### Running command: ### ### /home/biocbuild/bbs-3.11-bioc/R/bin/R CMD INSTALL DeSousa2013 ### ############################################################################## ############################################################################## * installing to library ‘/home/biocbuild/bbs-3.11-bioc/R/library’ * installing *source* package ‘DeSousa2013’ ... ** using staged installation ** R ** data ** byte-compile and prepare package for lazy loading No methods found in package ‘RSQLite’ for request: ‘dbListFields’ when loading ‘oligo’ ** help *** installing help indices ** building package indices ** installing vignettes ** testing if installed package can be loaded from temporary location No methods found in package ‘RSQLite’ for request: ‘dbListFields’ when loading ‘oligo’ ** testing if installed package can be loaded from final location No methods found in package ‘RSQLite’ for request: ‘dbListFields’ when loading ‘oligo’ ** testing if installed package keeps a record of temporary installation path * DONE (DeSousa2013)