| Back to Build/check report for BioC 3.11 experimental data | 
This page was generated on 2020-10-15 20:45:48 -0400 (Thu, 15 Oct 2020).
| TO THE DEVELOPERS/MAINTAINERS OF THE HiCDataHumanIMR90 PACKAGE: Please make sure to use the following settings in order to reproduce any error or warning you see on this page. | 
| Package 172/391 | Hostname | OS / Arch | INSTALL | BUILD | CHECK | ||||||
| HiCDataHumanIMR90 1.8.0 Nicolas Servant 
 | malbec2 | Linux (Ubuntu 18.04.4 LTS) / x86_64 | OK | [ OK ] | OK |  | 
| Package: HiCDataHumanIMR90 | 
| Version: 1.8.0 | 
| Command: /home/biocbuild/bbs-3.11-bioc/R/bin/R CMD build --keep-empty-dirs --no-resave-data HiCDataHumanIMR90 | 
| StartedAt: 2020-10-15 11:30:47 -0400 (Thu, 15 Oct 2020) | 
| EndedAt: 2020-10-15 11:35:46 -0400 (Thu, 15 Oct 2020) | 
| EllapsedTime: 299.4 seconds | 
| RetCode: 0 | 
| Status: OK | 
| PackageFile: HiCDataHumanIMR90_1.8.0.tar.gz | 
| PackageFileSize: 65.73 MiB | 
############################################################################## ############################################################################## ### ### Running command: ### ### /home/biocbuild/bbs-3.11-bioc/R/bin/R CMD build --keep-empty-dirs --no-resave-data HiCDataHumanIMR90 ### ############################################################################## ############################################################################## * checking for file ‘HiCDataHumanIMR90/DESCRIPTION’ ... OK * preparing ‘HiCDataHumanIMR90’: * checking DESCRIPTION meta-information ... OK * installing the package to build vignettes * creating vignettes ... OK * checking for LF line-endings in source and make files and shell scripts * checking for empty or unneeded directories * looking to see if a ‘data/datalist’ file should be added * building ‘HiCDataHumanIMR90_1.8.0.tar.gz’