| Back to Build/check report for BioC 3.11 experimental data | 
This page was generated on 2020-10-15 20:45:53 -0400 (Thu, 15 Oct 2020).
| TO THE DEVELOPERS/MAINTAINERS OF THE Mulder2012 PACKAGE: Please make sure to use the following settings in order to reproduce any error or warning you see on this page. | 
| Package 245/391 | Hostname | OS / Arch | INSTALL | BUILD | CHECK | ||||||
| Mulder2012 0.28.0 Xin Wang 
 | malbec2 | Linux (Ubuntu 18.04.4 LTS) / x86_64 | [ ERROR ] | ERROR | skipped | 
| Package: Mulder2012 | 
| Version: 0.28.0 | 
| Command: /home/biocbuild/bbs-3.11-bioc/R/bin/R CMD INSTALL Mulder2012 | 
| StartedAt: 2020-10-15 09:47:16 -0400 (Thu, 15 Oct 2020) | 
| EndedAt: 2020-10-15 09:47:16 -0400 (Thu, 15 Oct 2020) | 
| EllapsedTime: 0.5 seconds | 
| RetCode: 1 | 
| Status: ERROR | 
############################################################################## ############################################################################## ### ### Running command: ### ### /home/biocbuild/bbs-3.11-bioc/R/bin/R CMD INSTALL Mulder2012 ### ############################################################################## ############################################################################## * installing to library ‘/home/biocbuild/bbs-3.11-bioc/R/library’ ERROR: dependency ‘HTSanalyzeR’ is not available for package ‘Mulder2012’ * removing ‘/home/biocbuild/bbs-3.11-bioc/R/library/Mulder2012’