| Back to Build/check report for BioC 3.11 experimental data | 
This page was generated on 2020-10-15 20:45:47 -0400 (Thu, 15 Oct 2020).
| TO THE DEVELOPERS/MAINTAINERS OF THE gageData PACKAGE: Please make sure to use the following settings in order to reproduce any error or warning you see on this page. | 
| Package 133/391 | Hostname | OS / Arch | INSTALL | BUILD | CHECK | ||||||
| gageData 2.26.0 Weijun Luo 
 | malbec2 | Linux (Ubuntu 18.04.4 LTS) / x86_64 | OK | [ OK ] | OK |  | 
| Package: gageData | 
| Version: 2.26.0 | 
| Command: /home/biocbuild/bbs-3.11-bioc/R/bin/R CMD build --keep-empty-dirs --no-resave-data gageData | 
| StartedAt: 2020-10-15 10:45:00 -0400 (Thu, 15 Oct 2020) | 
| EndedAt: 2020-10-15 10:46:07 -0400 (Thu, 15 Oct 2020) | 
| EllapsedTime: 67.0 seconds | 
| RetCode: 0 | 
| Status: OK | 
| PackageFile: gageData_2.26.0.tar.gz | 
| PackageFileSize: 10.59 MiB | 
############################################################################## ############################################################################## ### ### Running command: ### ### /home/biocbuild/bbs-3.11-bioc/R/bin/R CMD build --keep-empty-dirs --no-resave-data gageData ### ############################################################################## ############################################################################## * checking for file ‘gageData/DESCRIPTION’ ... OK * preparing ‘gageData’: * checking DESCRIPTION meta-information ... OK * checking for LF line-endings in source and make files and shell scripts * checking for empty or unneeded directories * looking to see if a ‘data/datalist’ file should be added * building ‘gageData_2.26.0.tar.gz’