| Back to Build/check report for BioC 3.11 experimental data | 
This page was generated on 2020-10-15 20:45:56 -0400 (Thu, 15 Oct 2020).
| TO THE DEVELOPERS/MAINTAINERS OF THE pwrEWAS.data PACKAGE: Please make sure to use the following settings in order to reproduce any error or warning you see on this page. | 
| Package 288/391 | Hostname | OS / Arch | INSTALL | BUILD | CHECK | ||||||
| pwrEWAS.data 1.2.0 Stefan Graw 
 | malbec2 | Linux (Ubuntu 18.04.4 LTS) / x86_64 | OK | [ OK ] | OK |  | 
| Package: pwrEWAS.data | 
| Version: 1.2.0 | 
| Command: /home/biocbuild/bbs-3.11-bioc/R/bin/R CMD build --keep-empty-dirs --no-resave-data pwrEWAS.data | 
| StartedAt: 2020-10-15 12:13:10 -0400 (Thu, 15 Oct 2020) | 
| EndedAt: 2020-10-15 12:13:50 -0400 (Thu, 15 Oct 2020) | 
| EllapsedTime: 39.8 seconds | 
| RetCode: 0 | 
| Status: OK | 
| PackageFile: pwrEWAS.data_1.2.0.tar.gz | 
| PackageFileSize: 146.1 KiB | 
############################################################################## ############################################################################## ### ### Running command: ### ### /home/biocbuild/bbs-3.11-bioc/R/bin/R CMD build --keep-empty-dirs --no-resave-data pwrEWAS.data ### ############################################################################## ############################################################################## * checking for file ‘pwrEWAS.data/DESCRIPTION’ ... OK * preparing ‘pwrEWAS.data’: * checking DESCRIPTION meta-information ... OK * installing the package to build vignettes * creating vignettes ... OK * checking for LF line-endings in source and make files and shell scripts * checking for empty or unneeded directories * building ‘pwrEWAS.data_1.2.0.tar.gz’