| Back to Build/check report for BioC 3.11 experimental data | 
This page was generated on 2020-10-15 20:45:59 -0400 (Thu, 15 Oct 2020).
| TO THE DEVELOPERS/MAINTAINERS OF THE rRDPData PACKAGE: Please make sure to use the following settings in order to reproduce any error or warning you see on this page. | 
| Package 315/391 | Hostname | OS / Arch | INSTALL | BUILD | CHECK | ||||||
| rRDPData 1.8.0 Michael Hahsler 
 | malbec2 | Linux (Ubuntu 18.04.4 LTS) / x86_64 | OK | [ OK ] | OK |  | 
| Package: rRDPData | 
| Version: 1.8.0 | 
| Command: /home/biocbuild/bbs-3.11-bioc/R/bin/R CMD build --keep-empty-dirs --no-resave-data rRDPData | 
| StartedAt: 2020-10-15 12:25:33 -0400 (Thu, 15 Oct 2020) | 
| EndedAt: 2020-10-15 12:26:19 -0400 (Thu, 15 Oct 2020) | 
| EllapsedTime: 45.7 seconds | 
| RetCode: 0 | 
| Status: OK | 
| PackageFile: rRDPData_1.8.0.tar.gz | 
| PackageFileSize: 17.27 MiB | 
############################################################################## ############################################################################## ### ### Running command: ### ### /home/biocbuild/bbs-3.11-bioc/R/bin/R CMD build --keep-empty-dirs --no-resave-data rRDPData ### ############################################################################## ############################################################################## * checking for file ‘rRDPData/DESCRIPTION’ ... OK * preparing ‘rRDPData’: * checking DESCRIPTION meta-information ... OK * checking for LF line-endings in source and make files and shell scripts * checking for empty or unneeded directories * building ‘rRDPData_1.8.0.tar.gz’