| Back to Build/check report for BioC 3.12 experimental data | 
 | 
This page was generated on 2021-05-06 14:10:05 -0400 (Thu, 06 May 2021).
| To the developers/maintainers of the ARRmData package: Please make sure to use the following settings in order to reproduce any error or warning you see on this page. | 
| Package 18/398 | Hostname | OS / Arch | INSTALL | BUILD | CHECK | ||||||||
| ARRmData 1.26.0  (landing page) Jean-Philippe Fortin 
 | malbec1 | Linux (Ubuntu 18.04.5 LTS) / x86_64 | OK | OK | OK |  | |||||||
| Package: ARRmData | 
| Version: 1.26.0 | 
| Command: /home/biocbuild/bbs-3.12-bioc/R/bin/R CMD build --keep-empty-dirs --no-resave-data ARRmData | 
| StartedAt: 2021-05-06 10:19:50 -0400 (Thu, 06 May 2021) | 
| EndedAt: 2021-05-06 10:19:56 -0400 (Thu, 06 May 2021) | 
| EllapsedTime: 6.2 seconds | 
| RetCode: 0 | 
| Status: OK | 
| PackageFile: ARRmData_1.26.0.tar.gz | 
| PackageFileSize: 56.51 MiB | 
############################################################################## ############################################################################## ### ### Running command: ### ### /home/biocbuild/bbs-3.12-bioc/R/bin/R CMD build --keep-empty-dirs --no-resave-data ARRmData ### ############################################################################## ############################################################################## * checking for file ‘ARRmData/DESCRIPTION’ ... OK * preparing ‘ARRmData’: * checking DESCRIPTION meta-information ... OK * checking for LF line-endings in source and make files and shell scripts * checking for empty or unneeded directories * looking to see if a ‘data/datalist’ file should be added * building ‘ARRmData_1.26.0.tar.gz’