| Back to Build/check report for BioC 3.12 experimental data | 
 | 
This page was generated on 2021-05-06 14:10:06 -0400 (Thu, 06 May 2021).
| To the developers/maintainers of the CluMSIDdata package: Please make sure to use the following settings in order to reproduce any error or warning you see on this page. | 
| Package 66/398 | Hostname | OS / Arch | INSTALL | BUILD | CHECK | ||||||||
| CluMSIDdata 1.6.0  (landing page) Tobias Depke 
 | malbec1 | Linux (Ubuntu 18.04.5 LTS) / x86_64 | OK | OK | OK |  | |||||||
| Package: CluMSIDdata | 
| Version: 1.6.0 | 
| Command: /home/biocbuild/bbs-3.12-bioc/R/bin/R CMD build --keep-empty-dirs --no-resave-data CluMSIDdata | 
| StartedAt: 2021-05-06 10:30:36 -0400 (Thu, 06 May 2021) | 
| EndedAt: 2021-05-06 10:31:41 -0400 (Thu, 06 May 2021) | 
| EllapsedTime: 65.4 seconds | 
| RetCode: 0 | 
| Status: OK | 
| PackageFile: CluMSIDdata_1.6.0.tar.gz | 
| PackageFileSize: 47.27 MiB | 
############################################################################## ############################################################################## ### ### Running command: ### ### /home/biocbuild/bbs-3.12-bioc/R/bin/R CMD build --keep-empty-dirs --no-resave-data CluMSIDdata ### ############################################################################## ############################################################################## * checking for file ‘CluMSIDdata/DESCRIPTION’ ... OK * preparing ‘CluMSIDdata’: * checking DESCRIPTION meta-information ... OK * checking for LF line-endings in source and make files and shell scripts * checking for empty or unneeded directories * building ‘CluMSIDdata_1.6.0.tar.gz’