| Back to Build/check report for BioC 3.12 experimental data | 
 | 
This page was generated on 2021-05-06 14:10:07 -0400 (Thu, 06 May 2021).
| To the developers/maintainers of the FieldEffectCrc package: Please make sure to use the following settings in order to reproduce any error or warning you see on this page. | 
| Package 120/398 | Hostname | OS / Arch | INSTALL | BUILD | CHECK | ||||||||
| FieldEffectCrc 1.0.0  (landing page) Christopher Dampier 
 | malbec1 | Linux (Ubuntu 18.04.5 LTS) / x86_64 | OK | OK | OK |  | |||||||
| Package: FieldEffectCrc | 
| Version: 1.0.0 | 
| Command: /home/biocbuild/bbs-3.12-bioc/R/bin/R CMD check --install=check:FieldEffectCrc.install-out.txt --library=/home/biocbuild/bbs-3.12-bioc/R/library --no-vignettes --timings FieldEffectCrc_1.0.0.tar.gz | 
| StartedAt: 2021-05-06 11:58:41 -0400 (Thu, 06 May 2021) | 
| EndedAt: 2021-05-06 12:03:47 -0400 (Thu, 06 May 2021) | 
| EllapsedTime: 305.9 seconds | 
| RetCode: 0 | 
| Status: OK | 
| CheckDir: FieldEffectCrc.Rcheck | 
| Warnings: 0 | 
##############################################################################
##############################################################################
###
### Running command:
###
###   /home/biocbuild/bbs-3.12-bioc/R/bin/R CMD check --install=check:FieldEffectCrc.install-out.txt --library=/home/biocbuild/bbs-3.12-bioc/R/library --no-vignettes --timings FieldEffectCrc_1.0.0.tar.gz
###
##############################################################################
##############################################################################
* using log directory ‘/home/biocbuild/bbs-3.12-data-experiment/meat/FieldEffectCrc.Rcheck’
* using R version 4.0.5 (2021-03-31)
* using platform: x86_64-pc-linux-gnu (64-bit)
* using session charset: UTF-8
* using option ‘--no-vignettes’
* checking for file ‘FieldEffectCrc/DESCRIPTION’ ... OK
* this is package ‘FieldEffectCrc’ version ‘1.0.0’
* package encoding: UTF-8
* checking package namespace information ... OK
* checking package dependencies ... OK
* checking if this is a source package ... OK
* checking if there is a namespace ... OK
* checking for hidden files and directories ... OK
* checking for portable file names ... OK
* checking for sufficient/correct file permissions ... OK
* checking whether package ‘FieldEffectCrc’ can be installed ... OK
* checking installed package size ... OK
* checking package directory ... OK
* checking ‘build’ directory ... OK
* checking DESCRIPTION meta-information ... OK
* checking top-level files ... OK
* checking for left-over files ... OK
* checking index information ... OK
* checking package subdirectories ... OK
* checking R files for non-ASCII characters ... OK
* checking R files for syntax errors ... OK
* checking whether the package can be loaded ... OK
* checking whether the package can be loaded with stated dependencies ... OK
* checking whether the package can be unloaded cleanly ... OK
* checking whether the namespace can be loaded with stated dependencies ... OK
* checking whether the namespace can be unloaded cleanly ... OK
* checking dependencies in R code ... OK
* checking S3 generic/method consistency ... OK
* checking replacement functions ... OK
* checking foreign function calls ... OK
* checking R code for possible problems ... OK
* checking Rd files ... OK
* checking Rd metadata ... OK
* checking Rd cross-references ... OK
* checking for missing documentation entries ... OK
* checking for code/documentation mismatches ... OK
* checking Rd \usage sections ... OK
* checking Rd contents ... OK
* checking for unstated dependencies in examples ... OK
* checking files in ‘vignettes’ ... OK
* checking examples ... OK
Examples with CPU (user + system) or elapsed time > 5s
                 user system elapsed
FieldEffectCrc 30.304  0.840  33.793
cohort_A       12.448  0.440  15.301
cohort_C        9.636  0.200  10.857
cohort_B        7.952  0.088   9.113
reorder_assays  6.240  0.364   7.090
make_txi        6.176  0.304   6.898
* checking for unstated dependencies in ‘tests’ ... OK
* checking tests ...
  Running ‘runTests.R’
 OK
* checking for unstated dependencies in vignettes ... OK
* checking package vignettes in ‘inst/doc’ ... OK
* checking running R code from vignettes ... SKIPPED
* checking re-building of vignette outputs ... SKIPPED
* checking PDF version of manual ... OK
* DONE
Status: OK
FieldEffectCrc.Rcheck/00install.out
############################################################################## ############################################################################## ### ### Running command: ### ### /home/biocbuild/bbs-3.12-bioc/R/bin/R CMD INSTALL FieldEffectCrc ### ############################################################################## ############################################################################## * installing to library ‘/home/biocbuild/bbs-3.12-bioc/R/library’ * installing *source* package ‘FieldEffectCrc’ ... ** using staged installation ** R ** inst ** byte-compile and prepare package for lazy loading ** help *** installing help indices ** building package indices ** installing vignettes ** testing if installed package can be loaded from temporary location snapshotDate(): 2020-10-27 ** testing if installed package can be loaded from final location snapshotDate(): 2020-10-27 ** testing if installed package keeps a record of temporary installation path * DONE (FieldEffectCrc)
FieldEffectCrc.Rcheck/tests/runTests.Rout
R version 4.0.5 (2021-03-31) -- "Shake and Throw"
Copyright (C) 2021 The R Foundation for Statistical Computing
Platform: x86_64-pc-linux-gnu (64-bit)
R is free software and comes with ABSOLUTELY NO WARRANTY.
You are welcome to redistribute it under certain conditions.
Type 'license()' or 'licence()' for distribution details.
R is a collaborative project with many contributors.
Type 'contributors()' for more information and
'citation()' on how to cite R or R packages in publications.
Type 'demo()' for some demos, 'help()' for on-line help, or
'help.start()' for an HTML browser interface to help.
Type 'q()' to quit R.
> BiocGenerics:::testPackage("FieldEffectCrc")
snapshotDate(): 2020-10-27
snapshotDate(): 2020-10-27
see ?FieldEffectCrc and browseVignettes('FieldEffectCrc') for documentation
loading from cache
snapshotDate(): 2020-10-27
see ?FieldEffectCrc and browseVignettes('FieldEffectCrc') for documentation
loading from cache
snapshotDate(): 2020-10-27
see ?FieldEffectCrc and browseVignettes('FieldEffectCrc') for documentation
loading from cache
RUNIT TEST PROTOCOL -- Thu May  6 12:03:45 2021 
*********************************************** 
Number of test functions: 3 
Number of errors: 0 
Number of failures: 0 
 
1 Test Suite : 
FieldEffectCrc RUnit Tests - 3 test functions, 0 errors, 0 failures
Number of test functions: 3 
Number of errors: 0 
Number of failures: 0 
> 
> proc.time()
   user  system elapsed 
 22.976   0.644  25.668 
FieldEffectCrc.Rcheck/FieldEffectCrc-Ex.timings
| name | user | system | elapsed | |
| FieldEffectCrc | 30.304 | 0.840 | 33.793 | |
| cohort_A | 12.448 | 0.440 | 15.301 | |
| cohort_B | 7.952 | 0.088 | 9.113 | |
| cohort_C | 9.636 | 0.200 | 10.857 | |
| make_txi | 6.176 | 0.304 | 6.898 | |
| reorder_assays | 6.240 | 0.364 | 7.090 | |