| Back to Build/check report for BioC 3.12 experimental data | 
 | 
This page was generated on 2021-05-06 14:10:10 -0400 (Thu, 06 May 2021).
| To the developers/maintainers of the HMP2Data package: Please make sure to use the following settings in order to reproduce any error or warning you see on this page. | 
| Package 182/398 | Hostname | OS / Arch | INSTALL | BUILD | CHECK | ||||||||
| HMP2Data 1.4.0  (landing page) John Stansfield 
 | malbec1 | Linux (Ubuntu 18.04.5 LTS) / x86_64 | OK | OK | OK |  | |||||||
| Package: HMP2Data | 
| Version: 1.4.0 | 
| Command: /home/biocbuild/bbs-3.12-bioc/R/bin/R CMD build --keep-empty-dirs --no-resave-data HMP2Data | 
| StartedAt: 2021-05-06 10:59:18 -0400 (Thu, 06 May 2021) | 
| EndedAt: 2021-05-06 11:00:28 -0400 (Thu, 06 May 2021) | 
| EllapsedTime: 69.6 seconds | 
| RetCode: 0 | 
| Status: OK | 
| PackageFile: HMP2Data_1.4.0.tar.gz | 
| PackageFileSize: 5.095 MiB | 
############################################################################## ############################################################################## ### ### Running command: ### ### /home/biocbuild/bbs-3.12-bioc/R/bin/R CMD build --keep-empty-dirs --no-resave-data HMP2Data ### ############################################################################## ############################################################################## * checking for file ‘HMP2Data/DESCRIPTION’ ... OK * preparing ‘HMP2Data’: * checking DESCRIPTION meta-information ... OK * installing the package to build vignettes * creating vignettes ... OK * checking for LF line-endings in source and make files and shell scripts * checking for empty or unneeded directories * looking to see if a ‘data/datalist’ file should be added * building ‘HMP2Data_1.4.0.tar.gz’