| Back to Build/check report for BioC 3.12 experimental data | 
 | 
This page was generated on 2021-05-06 14:10:11 -0400 (Thu, 06 May 2021).
| To the developers/maintainers of the LungCancerLines package: Please make sure to use the following settings in order to reproduce any error or warning you see on this page. | 
| Package 205/398 | Hostname | OS / Arch | INSTALL | BUILD | CHECK | ||||||||
| LungCancerLines 0.28.0  (landing page) Cory Barr 
 | malbec1 | Linux (Ubuntu 18.04.5 LTS) / x86_64 | OK | OK | OK |  | |||||||
| Package: LungCancerLines | 
| Version: 0.28.0 | 
| Command: /home/biocbuild/bbs-3.12-bioc/R/bin/R CMD build --keep-empty-dirs --no-resave-data LungCancerLines | 
| StartedAt: 2021-05-06 11:02:59 -0400 (Thu, 06 May 2021) | 
| EndedAt: 2021-05-06 11:03:00 -0400 (Thu, 06 May 2021) | 
| EllapsedTime: 0.6 seconds | 
| RetCode: 0 | 
| Status: OK | 
| PackageFile: LungCancerLines_0.28.0.tar.gz | 
| PackageFileSize: 1.608 MiB | 
############################################################################## ############################################################################## ### ### Running command: ### ### /home/biocbuild/bbs-3.12-bioc/R/bin/R CMD build --keep-empty-dirs --no-resave-data LungCancerLines ### ############################################################################## ############################################################################## * checking for file ‘LungCancerLines/DESCRIPTION’ ... OK * preparing ‘LungCancerLines’: * checking DESCRIPTION meta-information ... OK * checking for LF line-endings in source and make files and shell scripts * checking for empty or unneeded directories * building ‘LungCancerLines_0.28.0.tar.gz’