| Back to Build/check report for BioC 3.12 experimental data | 
 | 
This page was generated on 2021-05-06 14:10:11 -0400 (Thu, 06 May 2021).
| To the developers/maintainers of the MouseGastrulationData package: Please make sure to use the following settings in order to reproduce any error or warning you see on this page. | 
| Package 240/398 | Hostname | OS / Arch | INSTALL | BUILD | CHECK | ||||||||
| MouseGastrulationData 1.4.0  (landing page) Jonathan Griffiths 
 | malbec1 | Linux (Ubuntu 18.04.5 LTS) / x86_64 | OK | OK | OK |  | |||||||
| Package: MouseGastrulationData | 
| Version: 1.4.0 | 
| Command: /home/biocbuild/bbs-3.12-bioc/R/bin/R CMD build --keep-empty-dirs --no-resave-data MouseGastrulationData | 
| StartedAt: 2021-05-06 11:07:11 -0400 (Thu, 06 May 2021) | 
| EndedAt: 2021-05-06 11:08:39 -0400 (Thu, 06 May 2021) | 
| EllapsedTime: 87.2 seconds | 
| RetCode: 0 | 
| Status: OK | 
| PackageFile: MouseGastrulationData_1.4.0.tar.gz | 
| PackageFileSize: 466.3 KiB | 
############################################################################## ############################################################################## ### ### Running command: ### ### /home/biocbuild/bbs-3.12-bioc/R/bin/R CMD build --keep-empty-dirs --no-resave-data MouseGastrulationData ### ############################################################################## ############################################################################## * checking for file ‘MouseGastrulationData/DESCRIPTION’ ... OK * preparing ‘MouseGastrulationData’: * checking DESCRIPTION meta-information ... OK * installing the package to process help pages * saving partial Rd database * creating vignettes ... OK * checking for LF line-endings in source and make files and shell scripts * checking for empty or unneeded directories * building ‘MouseGastrulationData_1.4.0.tar.gz’