| Back to Build/check report for BioC 3.12 experimental data | 
 | 
This page was generated on 2021-05-06 14:10:12 -0400 (Thu, 06 May 2021).
| To the developers/maintainers of the PathNetData package: Please make sure to use the following settings in order to reproduce any error or warning you see on this page. | 
| Package 266/398 | Hostname | OS / Arch | INSTALL | BUILD | CHECK | ||||||||
| PathNetData 1.26.0  (landing page) Ludwig Geistlinger 
 | malbec1 | Linux (Ubuntu 18.04.5 LTS) / x86_64 | OK | OK | OK |  | |||||||
| Package: PathNetData | 
| Version: 1.26.0 | 
| Command: /home/biocbuild/bbs-3.12-bioc/R/bin/R CMD build --keep-empty-dirs --no-resave-data PathNetData | 
| StartedAt: 2021-05-06 11:11:24 -0400 (Thu, 06 May 2021) | 
| EndedAt: 2021-05-06 11:11:26 -0400 (Thu, 06 May 2021) | 
| EllapsedTime: 2.0 seconds | 
| RetCode: 0 | 
| Status: OK | 
| PackageFile: PathNetData_1.26.0.tar.gz | 
| PackageFileSize: 2.427 MiB | 
############################################################################## ############################################################################## ### ### Running command: ### ### /home/biocbuild/bbs-3.12-bioc/R/bin/R CMD build --keep-empty-dirs --no-resave-data PathNetData ### ############################################################################## ############################################################################## * checking for file ‘PathNetData/DESCRIPTION’ ... OK * preparing ‘PathNetData’: * checking DESCRIPTION meta-information ... OK * checking for LF line-endings in source and make files and shell scripts * checking for empty or unneeded directories * looking to see if a ‘data/datalist’ file should be added * building ‘PathNetData_1.26.0.tar.gz’