| Back to Build/check report for BioC 3.12 experimental data | 
 | 
This page was generated on 2021-05-06 14:10:14 -0400 (Thu, 06 May 2021).
| To the developers/maintainers of the RTCGA.mutations package: Please make sure to use the following settings in order to reproduce any error or warning you see on this page. | 
| Package 325/398 | Hostname | OS / Arch | INSTALL | BUILD | CHECK | ||||||||
| RTCGA.mutations 20151101.20.0  (landing page) Marcin Kosinski 
 | malbec1 | Linux (Ubuntu 18.04.5 LTS) / x86_64 | OK | OK | OK |  | |||||||
| Package: RTCGA.mutations | 
| Version: 20151101.20.0 | 
| Command: /home/biocbuild/bbs-3.12-bioc/R/bin/R CMD build --keep-empty-dirs --no-resave-data RTCGA.mutations | 
| StartedAt: 2021-05-06 11:20:02 -0400 (Thu, 06 May 2021) | 
| EndedAt: 2021-05-06 11:23:50 -0400 (Thu, 06 May 2021) | 
| EllapsedTime: 228.5 seconds | 
| RetCode: 0 | 
| Status: OK | 
| PackageFile: RTCGA.mutations_20151101.20.0.tar.gz | 
| PackageFileSize: 103.8 MiB | 
############################################################################## ############################################################################## ### ### Running command: ### ### /home/biocbuild/bbs-3.12-bioc/R/bin/R CMD build --keep-empty-dirs --no-resave-data RTCGA.mutations ### ############################################################################## ############################################################################## * checking for file ‘RTCGA.mutations/DESCRIPTION’ ... OK * preparing ‘RTCGA.mutations’: * checking DESCRIPTION meta-information ... OK * installing the package to build vignettes * creating vignettes ... OK * checking for LF line-endings in source and make files and shell scripts * checking for empty or unneeded directories * building ‘RTCGA.mutations_20151101.20.0.tar.gz’