| Back to Build/check report for BioC 3.12 experimental data | 
 | 
This page was generated on 2021-05-06 14:10:14 -0400 (Thu, 06 May 2021).
| To the developers/maintainers of the SingleCellMultiModal package: Please make sure to use the following settings in order to reproduce any error or warning you see on this page. | 
| Package 346/398 | Hostname | OS / Arch | INSTALL | BUILD | CHECK | ||||||||
| SingleCellMultiModal 1.2.4  (landing page) Marcel Ramos 
 | malbec1 | Linux (Ubuntu 18.04.5 LTS) / x86_64 | OK | OK | OK |  | |||||||
| Package: SingleCellMultiModal | 
| Version: 1.2.4 | 
| Command: /home/biocbuild/bbs-3.12-bioc/R/bin/R CMD build --keep-empty-dirs --no-resave-data SingleCellMultiModal | 
| StartedAt: 2021-05-06 11:25:15 -0400 (Thu, 06 May 2021) | 
| EndedAt: 2021-05-06 11:33:52 -0400 (Thu, 06 May 2021) | 
| EllapsedTime: 516.1 seconds | 
| RetCode: 0 | 
| Status: OK | 
| PackageFile: SingleCellMultiModal_1.2.4.tar.gz | 
| PackageFileSize: 2.309 MiB | 
############################################################################## ############################################################################## ### ### Running command: ### ### /home/biocbuild/bbs-3.12-bioc/R/bin/R CMD build --keep-empty-dirs --no-resave-data SingleCellMultiModal ### ############################################################################## ############################################################################## * checking for file ‘SingleCellMultiModal/DESCRIPTION’ ... OK * preparing ‘SingleCellMultiModal’: * checking DESCRIPTION meta-information ... OK * installing the package to build vignettes * creating vignettes ... OK * checking for LF line-endings in source and make files and shell scripts * checking for empty or unneeded directories * building ‘SingleCellMultiModal_1.2.4.tar.gz’