| Back to Build/check report for BioC 3.12 experimental data | 
 | 
This page was generated on 2021-05-06 14:10:14 -0400 (Thu, 06 May 2021).
| To the developers/maintainers of the SpikeIn package: Please make sure to use the following settings in order to reproduce any error or warning you see on this page. | 
| Package 353/398 | Hostname | OS / Arch | INSTALL | BUILD | CHECK | ||||||||
| SpikeIn 1.32.0  (landing page) Rafael A. Irizarry 
 | malbec1 | Linux (Ubuntu 18.04.5 LTS) / x86_64 | OK | OK | WARNINGS |  | |||||||
| Package: SpikeIn | 
| Version: 1.32.0 | 
| Command: /home/biocbuild/bbs-3.12-bioc/R/bin/R CMD build --keep-empty-dirs --no-resave-data SpikeIn | 
| StartedAt: 2021-05-06 11:26:02 -0400 (Thu, 06 May 2021) | 
| EndedAt: 2021-05-06 11:26:13 -0400 (Thu, 06 May 2021) | 
| EllapsedTime: 11.4 seconds | 
| RetCode: 0 | 
| Status: OK | 
| PackageFile: SpikeIn_1.32.0.tar.gz | 
| PackageFileSize: 63.05 MiB | 
############################################################################## ############################################################################## ### ### Running command: ### ### /home/biocbuild/bbs-3.12-bioc/R/bin/R CMD build --keep-empty-dirs --no-resave-data SpikeIn ### ############################################################################## ############################################################################## * checking for file ‘SpikeIn/DESCRIPTION’ ... OK * preparing ‘SpikeIn’: * checking DESCRIPTION meta-information ... OK * checking for LF line-endings in source and make files and shell scripts * checking for empty or unneeded directories * looking to see if a ‘data/datalist’ file should be added * building ‘SpikeIn_1.32.0.tar.gz’