| Back to Build/check report for BioC 3.12 experimental data | 
 | 
This page was generated on 2021-05-06 14:10:05 -0400 (Thu, 06 May 2021).
| To the developers/maintainers of the benchmarkfdrData2019 package: Please make sure to use the following settings in order to reproduce any error or warning you see on this page. | 
| Package 25/398 | Hostname | OS / Arch | INSTALL | BUILD | CHECK | ||||||||
| benchmarkfdrData2019 1.4.0  (landing page) Stephanie Hicks 
 | malbec1 | Linux (Ubuntu 18.04.5 LTS) / x86_64 | OK | OK | OK |  | |||||||
| Package: benchmarkfdrData2019 | 
| Version: 1.4.0 | 
| Command: /home/biocbuild/bbs-3.12-bioc/R/bin/R CMD build --keep-empty-dirs --no-resave-data benchmarkfdrData2019 | 
| StartedAt: 2021-05-06 10:20:27 -0400 (Thu, 06 May 2021) | 
| EndedAt: 2021-05-06 10:21:55 -0400 (Thu, 06 May 2021) | 
| EllapsedTime: 88.3 seconds | 
| RetCode: 0 | 
| Status: OK | 
| PackageFile: benchmarkfdrData2019_1.4.0.tar.gz | 
| PackageFileSize: 777.1 KiB | 
############################################################################## ############################################################################## ### ### Running command: ### ### /home/biocbuild/bbs-3.12-bioc/R/bin/R CMD build --keep-empty-dirs --no-resave-data benchmarkfdrData2019 ### ############################################################################## ############################################################################## * checking for file ‘benchmarkfdrData2019/DESCRIPTION’ ... OK * preparing ‘benchmarkfdrData2019’: * checking DESCRIPTION meta-information ... OK * installing the package to build vignettes * creating vignettes ... OK * checking for LF line-endings in source and make files and shell scripts * checking for empty or unneeded directories * building ‘benchmarkfdrData2019_1.4.0.tar.gz’ Warning in utils::tar(filepath, pkgname, compression = compression, compression_level = 9L, : storing paths of more than 100 bytes is not portable: ‘benchmarkfdrData2019/inst/scripts/make-data/Simulations/simulations-varyinginformativeness-discrete.Rmd’ Warning in utils::tar(filepath, pkgname, compression = compression, compression_level = 9L, : storing paths of more than 100 bytes is not portable: ‘benchmarkfdrData2019/inst/scripts/make-data/Simulations/simulations-varyinginformativeness-smooth.Rmd’ Warning in utils::tar(filepath, pkgname, compression = compression, compression_level = 9L, : storing paths of more than 100 bytes is not portable: ‘benchmarkfdrData2019/inst/scripts/make-data/YeastInSilico/yeast-simulation-bimodalalternative-highpi0.Rmd’