| Back to Build/check report for BioC 3.12 experimental data | 
 | 
This page was generated on 2021-05-06 14:10:07 -0400 (Thu, 06 May 2021).
| To the developers/maintainers of the curatedAdipoChIP package: Please make sure to use the following settings in order to reproduce any error or warning you see on this page. | 
| Package 80/398 | Hostname | OS / Arch | INSTALL | BUILD | CHECK | ||||||||
| curatedAdipoChIP 1.6.0  (landing page) Mahmoud Ahmed 
 | malbec1 | Linux (Ubuntu 18.04.5 LTS) / x86_64 | OK | OK | OK |  | |||||||
| Package: curatedAdipoChIP | 
| Version: 1.6.0 | 
| Command: /home/biocbuild/bbs-3.12-bioc/R/bin/R CMD build --keep-empty-dirs --no-resave-data curatedAdipoChIP | 
| StartedAt: 2021-05-06 10:32:45 -0400 (Thu, 06 May 2021) | 
| EndedAt: 2021-05-06 10:34:30 -0400 (Thu, 06 May 2021) | 
| EllapsedTime: 105.8 seconds | 
| RetCode: 0 | 
| Status: OK | 
| PackageFile: curatedAdipoChIP_1.6.0.tar.gz | 
| PackageFileSize: 105.4 KiB | 
############################################################################## ############################################################################## ### ### Running command: ### ### /home/biocbuild/bbs-3.12-bioc/R/bin/R CMD build --keep-empty-dirs --no-resave-data curatedAdipoChIP ### ############################################################################## ############################################################################## * checking for file ‘curatedAdipoChIP/DESCRIPTION’ ... OK * preparing ‘curatedAdipoChIP’: * checking DESCRIPTION meta-information ... OK * installing the package to build vignettes * creating vignettes ... OK * checking for LF line-endings in source and make files and shell scripts * checking for empty or unneeded directories * building ‘curatedAdipoChIP_1.6.0.tar.gz’