| Back to Build/check report for BioC 3.12 experimental data | 
 | 
This page was generated on 2021-05-06 14:10:10 -0400 (Thu, 06 May 2021).
| To the developers/maintainers of the gskb package: Please make sure to use the following settings in order to reproduce any error or warning you see on this page. | 
| Package 153/398 | Hostname | OS / Arch | INSTALL | BUILD | CHECK | ||||||||
| gskb 1.22.0  (landing page) Valerie Bares 
 | malbec1 | Linux (Ubuntu 18.04.5 LTS) / x86_64 | OK | OK | OK |  | |||||||
| Package: gskb | 
| Version: 1.22.0 | 
| Command: /home/biocbuild/bbs-3.12-bioc/R/bin/R CMD build --keep-empty-dirs --no-resave-data gskb | 
| StartedAt: 2021-05-06 10:53:47 -0400 (Thu, 06 May 2021) | 
| EndedAt: 2021-05-06 10:55:24 -0400 (Thu, 06 May 2021) | 
| EllapsedTime: 97.3 seconds | 
| RetCode: 0 | 
| Status: OK | 
| PackageFile: gskb_1.22.0.tar.gz | 
| PackageFileSize: 3.888 MiB | 
############################################################################## ############################################################################## ### ### Running command: ### ### /home/biocbuild/bbs-3.12-bioc/R/bin/R CMD build --keep-empty-dirs --no-resave-data gskb ### ############################################################################## ############################################################################## * checking for file ‘gskb/DESCRIPTION’ ... OK * preparing ‘gskb’: * checking DESCRIPTION meta-information ... OK * installing the package to build vignettes * creating vignettes ... OK * checking for LF line-endings in source and make files and shell scripts * checking for empty or unneeded directories * looking to see if a ‘data/datalist’ file should be added * building ‘gskb_1.22.0.tar.gz’