| Back to Build/check report for BioC 3.12 experimental data | 
 | 
This page was generated on 2021-05-06 14:10:11 -0400 (Thu, 06 May 2021).
| To the developers/maintainers of the msd16s package: Please make sure to use the following settings in order to reproduce any error or warning you see on this page. | 
| Package 241/398 | Hostname | OS / Arch | INSTALL | BUILD | CHECK | ||||||||
| msd16s 1.10.0  (landing page) Joseph N. Paulson 
 | malbec1 | Linux (Ubuntu 18.04.5 LTS) / x86_64 | OK | OK | OK |  | |||||||
| Package: msd16s | 
| Version: 1.10.0 | 
| Command: /home/biocbuild/bbs-3.12-bioc/R/bin/R CMD build --keep-empty-dirs --no-resave-data msd16s | 
| StartedAt: 2021-05-06 11:07:12 -0400 (Thu, 06 May 2021) | 
| EndedAt: 2021-05-06 11:07:26 -0400 (Thu, 06 May 2021) | 
| EllapsedTime: 13.8 seconds | 
| RetCode: 0 | 
| Status: OK | 
| PackageFile: msd16s_1.10.0.tar.gz | 
| PackageFileSize: 1.755 MiB | 
############################################################################## ############################################################################## ### ### Running command: ### ### /home/biocbuild/bbs-3.12-bioc/R/bin/R CMD build --keep-empty-dirs --no-resave-data msd16s ### ############################################################################## ############################################################################## * checking for file ‘msd16s/DESCRIPTION’ ... OK * preparing ‘msd16s’: * checking DESCRIPTION meta-information ... OK * installing the package to build vignettes * creating vignettes ... OK * checking for LF line-endings in source and make files and shell scripts * checking for empty or unneeded directories * building ‘msd16s_1.10.0.tar.gz’