| Back to Build/check report for BioC 3.12 experimental data | 
 | 
This page was generated on 2021-05-06 14:10:12 -0400 (Thu, 06 May 2021).
| To the developers/maintainers of the optimalFlowData package: Please make sure to use the following settings in order to reproduce any error or warning you see on this page. | 
| Package 261/398 | Hostname | OS / Arch | INSTALL | BUILD | CHECK | ||||||||
| optimalFlowData 1.2.0  (landing page) Hristo Inouzhe 
 | malbec1 | Linux (Ubuntu 18.04.5 LTS) / x86_64 | OK | OK | OK |  | |||||||
| Package: optimalFlowData | 
| Version: 1.2.0 | 
| Command: /home/biocbuild/bbs-3.12-bioc/R/bin/R CMD INSTALL optimalFlowData | 
| StartedAt: 2021-05-06 09:54:28 -0400 (Thu, 06 May 2021) | 
| EndedAt: 2021-05-06 09:55:40 -0400 (Thu, 06 May 2021) | 
| EllapsedTime: 72.4 seconds | 
| RetCode: 0 | 
| Status: OK | 
############################################################################## ############################################################################## ### ### Running command: ### ### /home/biocbuild/bbs-3.12-bioc/R/bin/R CMD INSTALL optimalFlowData ### ############################################################################## ############################################################################## * installing to library ‘/home/biocbuild/bbs-3.12-bioc/R/library’ * installing *source* package ‘optimalFlowData’ ... ** using staged installation ** R ** data *** moving datasets to lazyload DB ** byte-compile and prepare package for lazy loading ** help *** installing help indices ** building package indices ** installing vignettes ** testing if installed package can be loaded from temporary location ** testing if installed package can be loaded from final location ** testing if installed package keeps a record of temporary installation path * DONE (optimalFlowData)