| Back to Build/check report for BioC 3.12 experimental data | 
 | 
This page was generated on 2021-05-06 14:10:12 -0400 (Thu, 06 May 2021).
| To the developers/maintainers of the prostateCancerCamcap package: Please make sure to use the following settings in order to reproduce any error or warning you see on this page. | 
| Package 283/398 | Hostname | OS / Arch | INSTALL | BUILD | CHECK | ||||||||
| prostateCancerCamcap 1.18.0  (landing page) Mark Dunning 
 | malbec1 | Linux (Ubuntu 18.04.5 LTS) / x86_64 | OK | OK | OK |  | |||||||
| Package: prostateCancerCamcap | 
| Version: 1.18.0 | 
| Command: /home/biocbuild/bbs-3.12-bioc/R/bin/R CMD build --keep-empty-dirs --no-resave-data prostateCancerCamcap | 
| StartedAt: 2021-05-06 11:13:12 -0400 (Thu, 06 May 2021) | 
| EndedAt: 2021-05-06 11:13:40 -0400 (Thu, 06 May 2021) | 
| EllapsedTime: 28.3 seconds | 
| RetCode: 0 | 
| Status: OK | 
| PackageFile: prostateCancerCamcap_1.18.0.tar.gz | 
| PackageFileSize: 46.85 MiB | 
############################################################################## ############################################################################## ### ### Running command: ### ### /home/biocbuild/bbs-3.12-bioc/R/bin/R CMD build --keep-empty-dirs --no-resave-data prostateCancerCamcap ### ############################################################################## ############################################################################## * checking for file ‘prostateCancerCamcap/DESCRIPTION’ ... OK * preparing ‘prostateCancerCamcap’: * checking DESCRIPTION meta-information ... OK * installing the package to build vignettes * creating vignettes ... OK * checking for LF line-endings in source and make files and shell scripts * checking for empty or unneeded directories * building ‘prostateCancerCamcap_1.18.0.tar.gz’