| Back to Build/check report for BioC 3.13 experimental data |
|
This page was generated on 2021-10-16 15:58:39 -0400 (Sat, 16 Oct 2021).
|
To the developers/maintainers of the CardinalWorkflows package: Make sure to use the following settings in order to reproduce any error or warning you see on this page. |
| Package 47/406 | Hostname | OS / Arch | INSTALL | BUILD | CHECK | ||||||||
| CardinalWorkflows 1.24.0 (landing page) Kylie A. Bemis
| malbec2 | Linux (Ubuntu 20.04.2 LTS) / x86_64 | OK | OK | OK | ||||||||
| Package: CardinalWorkflows |
| Version: 1.24.0 |
| Command: /home/biocbuild/bbs-3.13-bioc/R/bin/R CMD INSTALL CardinalWorkflows |
| StartedAt: 2021-10-16 11:12:14 -0400 (Sat, 16 Oct 2021) |
| EndedAt: 2021-10-16 11:12:28 -0400 (Sat, 16 Oct 2021) |
| EllapsedTime: 14.4 seconds |
| RetCode: 0 |
| Status: OK |
############################################################################## ############################################################################## ### ### Running command: ### ### /home/biocbuild/bbs-3.13-bioc/R/bin/R CMD INSTALL CardinalWorkflows ### ############################################################################## ############################################################################## * installing to library ‘/home/biocbuild/bbs-3.13-bioc/R/library’ * installing *source* package ‘CardinalWorkflows’ ... ** using staged installation ** data ** inst ** help *** installing help indices ** building package indices ** installing vignettes ** testing if installed package can be loaded from temporary location ** testing if installed package can be loaded from final location ** testing if installed package keeps a record of temporary installation path * DONE (CardinalWorkflows)