| Back to Build/check report for BioC 3.13 experimental data |
|
This page was generated on 2021-10-16 15:58:40 -0400 (Sat, 16 Oct 2021).
|
To the developers/maintainers of the ConnectivityMap package: Make sure to use the following settings in order to reproduce any error or warning you see on this page. |
| Package 75/406 | Hostname | OS / Arch | INSTALL | BUILD | CHECK | ||||||||
| ConnectivityMap 1.28.0 (landing page) Paul Shannon
| malbec2 | Linux (Ubuntu 20.04.2 LTS) / x86_64 | OK | OK | OK | ||||||||
| Package: ConnectivityMap |
| Version: 1.28.0 |
| Command: /home/biocbuild/bbs-3.13-bioc/R/bin/R CMD check --install=check:ConnectivityMap.install-out.txt --library=/home/biocbuild/bbs-3.13-bioc/R/library --no-vignettes --timings ConnectivityMap_1.28.0.tar.gz |
| StartedAt: 2021-10-16 12:59:53 -0400 (Sat, 16 Oct 2021) |
| EndedAt: 2021-10-16 13:03:00 -0400 (Sat, 16 Oct 2021) |
| EllapsedTime: 186.9 seconds |
| RetCode: 0 |
| Status: OK |
| CheckDir: ConnectivityMap.Rcheck |
| Warnings: 0 |
##############################################################################
##############################################################################
###
### Running command:
###
### /home/biocbuild/bbs-3.13-bioc/R/bin/R CMD check --install=check:ConnectivityMap.install-out.txt --library=/home/biocbuild/bbs-3.13-bioc/R/library --no-vignettes --timings ConnectivityMap_1.28.0.tar.gz
###
##############################################################################
##############################################################################
* using log directory ‘/home/biocbuild/bbs-3.13-data-experiment/meat/ConnectivityMap.Rcheck’
* using R version 4.1.1 (2021-08-10)
* using platform: x86_64-pc-linux-gnu (64-bit)
* using session charset: UTF-8
* using option ‘--no-vignettes’
* checking for file ‘ConnectivityMap/DESCRIPTION’ ... OK
* checking extension type ... Package
* this is package ‘ConnectivityMap’ version ‘1.28.0’
* checking package namespace information ... OK
* checking package dependencies ... OK
* checking if this is a source package ... OK
* checking if there is a namespace ... OK
* checking for hidden files and directories ... NOTE
Found the following hidden files and directories:
.git_fetch_output.txt
.git_merge_output.txt
These were most likely included in error. See section ‘Package
structure’ in the ‘Writing R Extensions’ manual.
* checking for portable file names ... OK
* checking for sufficient/correct file permissions ... OK
* checking whether package ‘ConnectivityMap’ can be installed ... OK
* checking installed package size ... NOTE
installed size is 236.8Mb
sub-directories of 1Mb or more:
data 236.7Mb
* checking package directory ... OK
* checking DESCRIPTION meta-information ... OK
* checking top-level files ... OK
* checking for left-over files ... OK
* checking index information ... OK
* checking package subdirectories ... OK
* checking whether the package can be loaded ... OK
* checking whether the package can be loaded with stated dependencies ... OK
* checking whether the package can be unloaded cleanly ... OK
* checking whether the namespace can be loaded with stated dependencies ... OK
* checking whether the namespace can be unloaded cleanly ... OK
* checking Rd files ... OK
* checking Rd metadata ... OK
* checking Rd cross-references ... OK
* checking for missing documentation entries ... OK
* checking for code/documentation mismatches ... OK
* checking Rd \usage sections ... OK
* checking Rd contents ... OK
* checking for unstated dependencies in examples ... OK
* checking contents of ‘data’ directory ... OK
* checking data for non-ASCII characters ... OK
* checking data for ASCII and uncompressed saves ... OK
* checking examples ... OK
Examples with CPU (user + system) or elapsed time > 5s
user system elapsed
ConnectivityMap 34.796 0.244 35.04
* checking for unstated dependencies in ‘tests’ ... OK
* checking tests ...
Running ‘runTests.R’
OK
* checking PDF version of manual ... OK
* DONE
Status: 2 NOTEs
See
‘/home/biocbuild/bbs-3.13-data-experiment/meat/ConnectivityMap.Rcheck/00check.log’
for details.
ConnectivityMap.Rcheck/00install.out
############################################################################## ############################################################################## ### ### Running command: ### ### /home/biocbuild/bbs-3.13-bioc/R/bin/R CMD INSTALL ConnectivityMap ### ############################################################################## ############################################################################## * installing to library ‘/home/biocbuild/bbs-3.13-bioc/R/library’ * installing *source* package ‘ConnectivityMap’ ... ** using staged installation ** data ** inst ** help *** installing help indices ** building package indices ** testing if installed package can be loaded from temporary location ** testing if installed package can be loaded from final location ** testing if installed package keeps a record of temporary installation path * DONE (ConnectivityMap)
ConnectivityMap.Rcheck/tests/runTests.Rout
R version 4.1.1 (2021-08-10) -- "Kick Things"
Copyright (C) 2021 The R Foundation for Statistical Computing
Platform: x86_64-pc-linux-gnu (64-bit)
R is free software and comes with ABSOLUTELY NO WARRANTY.
You are welcome to redistribute it under certain conditions.
Type 'license()' or 'licence()' for distribution details.
R is a collaborative project with many contributors.
Type 'contributors()' for more information and
'citation()' on how to cite R or R packages in publications.
Type 'demo()' for some demos, 'help()' for on-line help, or
'help.start()' for an HTML browser interface to help.
Type 'q()' to quit R.
> require(ConnectivityMap) || stop("unable to load ConnectivityMap")
Loading required package: ConnectivityMap
[1] TRUE
> BiocGenerics:::testPackage('ConnectivityMap')
[1] "--- test_instances"
[1] "--- test_rankMatrix"
RUNIT TEST PROTOCOL -- Sat Oct 16 13:02:57 2021
***********************************************
Number of test functions: 2
Number of errors: 0
Number of failures: 0
1 Test Suite :
ConnectivityMap RUnit Tests - 2 test functions, 0 errors, 0 failures
Number of test functions: 2
Number of errors: 0
Number of failures: 0
>
> proc.time()
user system elapsed
68.016 0.518 68.552
ConnectivityMap.Rcheck/ConnectivityMap-Ex.timings
| name | user | system | elapsed | |
| ConnectivityMap | 34.796 | 0.244 | 35.040 | |