| Back to Build/check report for BioC 3.13 experimental data |
|
This page was generated on 2021-10-16 15:58:41 -0400 (Sat, 16 Oct 2021).
|
To the developers/maintainers of the MMDiffBamSubset package: Make sure to use the following settings in order to reproduce any error or warning you see on this page. |
| Package 241/406 | Hostname | OS / Arch | INSTALL | BUILD | CHECK | ||||||||
| MMDiffBamSubset 1.28.0 (landing page) Gabriele Schweikert
| malbec2 | Linux (Ubuntu 20.04.2 LTS) / x86_64 | OK | OK | OK | ||||||||
| Package: MMDiffBamSubset |
| Version: 1.28.0 |
| Command: /home/biocbuild/bbs-3.13-bioc/R/bin/R CMD build --keep-empty-dirs --no-resave-data MMDiffBamSubset |
| StartedAt: 2021-10-16 12:21:45 -0400 (Sat, 16 Oct 2021) |
| EndedAt: 2021-10-16 12:22:37 -0400 (Sat, 16 Oct 2021) |
| EllapsedTime: 51.6 seconds |
| RetCode: 0 |
| Status: OK |
| PackageFile: MMDiffBamSubset_1.28.0.tar.gz |
| PackageFileSize: 632.3 MiB |
############################################################################## ############################################################################## ### ### Running command: ### ### /home/biocbuild/bbs-3.13-bioc/R/bin/R CMD build --keep-empty-dirs --no-resave-data MMDiffBamSubset ### ############################################################################## ############################################################################## * checking for file ‘MMDiffBamSubset/DESCRIPTION’ ... OK * preparing ‘MMDiffBamSubset’: * checking DESCRIPTION meta-information ... OK * checking for LF line-endings in source and make files and shell scripts * checking for empty or unneeded directories * building ‘MMDiffBamSubset_1.28.0.tar.gz’