| Back to Build/check report for BioC 3.13 experimental data | 
  | 
This page was generated on 2021-10-16 15:58:43 -0400 (Sat, 16 Oct 2021).
| 
To the developers/maintainers of the QDNAseq.hg19 package: Make sure to use the following settings in order to reproduce any error or warning you see on this page.  | 
| Package 299/406 | Hostname | OS / Arch | INSTALL | BUILD | CHECK | ||||||||
| QDNAseq.hg19 1.22.0  (landing page) Daoud Sie 
  | malbec2 | Linux (Ubuntu 20.04.2 LTS) / x86_64 | OK | OK | OK | ||||||||
| Package: QDNAseq.hg19 | 
| Version: 1.22.0 | 
| Command: /home/biocbuild/bbs-3.13-bioc/R/bin/R CMD INSTALL QDNAseq.hg19 | 
| StartedAt: 2021-10-16 11:11:13 -0400 (Sat, 16 Oct 2021) | 
| EndedAt: 2021-10-16 11:11:39 -0400 (Sat, 16 Oct 2021) | 
| EllapsedTime: 26.4 seconds | 
| RetCode: 0 | 
| Status: OK | 
############################################################################## ############################################################################## ### ### Running command: ### ### /home/biocbuild/bbs-3.13-bioc/R/bin/R CMD INSTALL QDNAseq.hg19 ### ############################################################################## ############################################################################## * installing to library ‘/home/biocbuild/bbs-3.13-bioc/R/library’ * installing *source* package ‘QDNAseq.hg19’ ... ** using staged installation ** R ** data ** byte-compile and prepare package for lazy loading ** help *** installing help indices ** building package indices ** testing if installed package can be loaded from temporary location ** testing if installed package can be loaded from final location ** testing if installed package keeps a record of temporary installation path * DONE (QDNAseq.hg19)