| Back to Build/check report for BioC 3.13 experimental data |
|
This page was generated on 2021-10-16 15:58:43 -0400 (Sat, 16 Oct 2021).
|
To the developers/maintainers of the TCGAWorkflowData package: Make sure to use the following settings in order to reproduce any error or warning you see on this page. |
| Package 380/406 | Hostname | OS / Arch | INSTALL | BUILD | CHECK | ||||||||
| TCGAWorkflowData 1.16.0 (landing page) Tiago Chedraoui Silva
| malbec2 | Linux (Ubuntu 20.04.2 LTS) / x86_64 | OK | OK | WARNINGS | ||||||||
| Package: TCGAWorkflowData |
| Version: 1.16.0 |
| Command: /home/biocbuild/bbs-3.13-bioc/R/bin/R CMD build --keep-empty-dirs --no-resave-data TCGAWorkflowData |
| StartedAt: 2021-10-16 12:41:04 -0400 (Sat, 16 Oct 2021) |
| EndedAt: 2021-10-16 12:43:31 -0400 (Sat, 16 Oct 2021) |
| EllapsedTime: 146.2 seconds |
| RetCode: 0 |
| Status: OK |
| PackageFile: TCGAWorkflowData_1.16.0.tar.gz |
| PackageFileSize: 77.52 MiB |
##############################################################################
##############################################################################
###
### Running command:
###
### /home/biocbuild/bbs-3.13-bioc/R/bin/R CMD build --keep-empty-dirs --no-resave-data TCGAWorkflowData
###
##############################################################################
##############################################################################
* checking for file ‘TCGAWorkflowData/DESCRIPTION’ ... OK
* preparing ‘TCGAWorkflowData’:
* checking DESCRIPTION meta-information ... OK
* installing the package to build vignettes
* creating vignettes ... OK
* checking for LF line-endings in source and make files and shell scripts
* checking for empty or unneeded directories
* looking to see if a ‘data/datalist’ file should be added
NB: this package now depends on R (>= 3.5.0)
WARNING: Added dependency on R >= 3.5.0 because serialized objects in
serialize/load version 3 cannot be read in older versions of R.
File(s) containing such objects:
‘TCGAWorkflowData/data/CNV.hg19.bypos.111213.rda’
* building ‘TCGAWorkflowData_1.16.0.tar.gz’