| Back to Build/check report for BioC 3.13 experimental data |
|
This page was generated on 2021-10-16 15:58:43 -0400 (Sat, 16 Oct 2021).
|
To the developers/maintainers of the TabulaMurisData package: Make sure to use the following settings in order to reproduce any error or warning you see on this page. |
| Package 370/406 | Hostname | OS / Arch | INSTALL | BUILD | CHECK | ||||||||
| TabulaMurisData 1.10.0 (landing page) Charlotte Soneson
| malbec2 | Linux (Ubuntu 20.04.2 LTS) / x86_64 | OK | OK | OK | ||||||||
| Package: TabulaMurisData |
| Version: 1.10.0 |
| Command: /home/biocbuild/bbs-3.13-bioc/R/bin/R CMD build --keep-empty-dirs --no-resave-data TabulaMurisData |
| StartedAt: 2021-10-16 12:39:05 -0400 (Sat, 16 Oct 2021) |
| EndedAt: 2021-10-16 12:40:19 -0400 (Sat, 16 Oct 2021) |
| EllapsedTime: 74.0 seconds |
| RetCode: 0 |
| Status: OK |
| PackageFile: TabulaMurisData_1.10.0.tar.gz |
| PackageFileSize: 219.9 KiB |
############################################################################## ############################################################################## ### ### Running command: ### ### /home/biocbuild/bbs-3.13-bioc/R/bin/R CMD build --keep-empty-dirs --no-resave-data TabulaMurisData ### ############################################################################## ############################################################################## * checking for file ‘TabulaMurisData/DESCRIPTION’ ... OK * preparing ‘TabulaMurisData’: * checking DESCRIPTION meta-information ... OK * installing the package to build vignettes * creating vignettes ... OK * checking for LF line-endings in source and make files and shell scripts * checking for empty or unneeded directories Omitted ‘LazyData’ from DESCRIPTION * building ‘TabulaMurisData_1.10.0.tar.gz’